BEGIN:VCALENDAR
VERSION:2.0
PRODID:icalendar-ruby
CALSCALE:GREGORIAN
METHOD:PUBLISH
BEGIN:VEVENT
DTSTAMP:20260423T223245Z
UID:7-1324036@standrewlutheranchurch.com
DTSTART:20240428T150000Z
DTEND:20240428T160000Z
CLASS:PUBLIC
CREATED:20260423T182905
DESCRIPTION:
LAST-MODIFIED:20260423T182905
LOCATION:St. Andrew Lutheran Church and Online
SUMMARY:Sunday Worship
URL;VALUE=URI:https://standrewlutheranchurch.com/events/sunday-worship/2024
 -04-28
END:VEVENT
END:VCALENDAR
