BEGIN:VCALENDAR
VERSION:2.0
PRODID:icalendar-ruby
CALSCALE:GREGORIAN
METHOD:PUBLISH
BEGIN:VEVENT
DTSTAMP:20260423T205556Z
UID:7-1323329@standrewlutheranchurch.com
DTSTART:20240421T150000Z
DTEND:20240421T160000Z
CLASS:PUBLIC
CREATED:20260423T153451
DESCRIPTION:
LAST-MODIFIED:20260423T153451
LOCATION:St. Andrew Lutheran Church and Online
SUMMARY:Sunday Worship
URL;VALUE=URI:https://standrewlutheranchurch.com/events/sunday-worship/2024
 -04-21
END:VEVENT
END:VCALENDAR
