BEGIN:VCALENDAR
VERSION:2.0
PRODID:icalendar-ruby
CALSCALE:GREGORIAN
METHOD:PUBLISH
BEGIN:VEVENT
DTSTAMP:20260423T175612Z
UID:7-1322621@standrewlutheranchurch.com
DTSTART:20240407T150000Z
DTEND:20240407T160000Z
CLASS:PUBLIC
CREATED:20260423T123751
DESCRIPTION:
LAST-MODIFIED:20260423T123751
LOCATION:St. Andrew Lutheran Church and Online
SUMMARY:Sunday Worship
URL;VALUE=URI:https://standrewlutheranchurch.com/events/sunday-worship/2024
 -04-07
END:VEVENT
END:VCALENDAR
