BEGIN:VCALENDAR
VERSION:2.0
PRODID:icalendar-ruby
CALSCALE:GREGORIAN
METHOD:PUBLISH
BEGIN:VEVENT
DTSTAMP:20260423T105837Z
UID:7-1321205@standrewlutheranchurch.com
DTSTART:20240310T150000Z
DTEND:20240310T160000Z
CLASS:PUBLIC
CREATED:20260423T064923
DESCRIPTION:
LAST-MODIFIED:20260423T064923
LOCATION:St. Andrew Lutheran Church and Online
SUMMARY:Sunday Worship
URL;VALUE=URI:https://standrewlutheranchurch.com/events/sunday-worship/2024
 -03-10
END:VEVENT
END:VCALENDAR
