BEGIN:VCALENDAR
VERSION:2.0
PRODID:icalendar-ruby
CALSCALE:GREGORIAN
METHOD:PUBLISH
BEGIN:VEVENT
DTSTAMP:20260423T061722Z
UID:7-1320496@standrewlutheranchurch.com
DTSTART:20240218T160000Z
DTEND:20240218T170000Z
CLASS:PUBLIC
CREATED:20260422T212017
DESCRIPTION:
LAST-MODIFIED:20260422T212017
LOCATION:St. Andrew Lutheran Church and Online
SUMMARY:Sunday Worship
URL;VALUE=URI:https://standrewlutheranchurch.com/events/sunday-worship/2024
 -02-18
END:VEVENT
END:VCALENDAR
