BEGIN:VCALENDAR
VERSION:2.0
PRODID:icalendar-ruby
CALSCALE:GREGORIAN
METHOD:PUBLISH
BEGIN:VEVENT
DTSTAMP:20260423T000043Z
UID:7-1319786@standrewlutheranchurch.com
DTSTART:20240121T160000Z
DTEND:20240121T170000Z
CLASS:PUBLIC
CREATED:20260422T182819
DESCRIPTION:
LAST-MODIFIED:20260422T182819
LOCATION:St. Andrew Lutheran Church and Online
SUMMARY:Sunday Worship
URL;VALUE=URI:https://standrewlutheranchurch.com/events/sunday-worship/2024
 -01-21
END:VEVENT
END:VCALENDAR
