BEGIN:VCALENDAR
VERSION:2.0
PRODID:icalendar-ruby
CALSCALE:GREGORIAN
METHOD:PUBLISH
BEGIN:VEVENT
DTSTAMP:20260422T224353Z
UID:7-1319785@standrewlutheranchurch.com
DTSTART:20240114T160000Z
DTEND:20240114T170000Z
CLASS:PUBLIC
CREATED:20260422T182819
DESCRIPTION:
LAST-MODIFIED:20260422T182819
LOCATION:St. Andrew Lutheran Church and Online
SUMMARY:Sunday Worship
URL;VALUE=URI:https://standrewlutheranchurch.com/events/sunday-worship/2024
 -01-14
END:VEVENT
END:VCALENDAR
