BEGIN:VCALENDAR
VERSION:2.0
PRODID:icalendar-ruby
CALSCALE:GREGORIAN
METHOD:PUBLISH
BEGIN:VEVENT
DTSTAMP:20260422T193350Z
UID:7-1318372@standrewlutheranchurch.com
DTSTART:20231231T160000Z
DTEND:20231231T170000Z
CLASS:PUBLIC
CREATED:20260422T123918
DESCRIPTION:
LAST-MODIFIED:20260422T123918
LOCATION:St. Andrew Lutheran Church and Online
SUMMARY:Sunday Worship
URL;VALUE=URI:https://standrewlutheranchurch.com/events/sunday-worship/2023
 -12-31
END:VEVENT
END:VCALENDAR
