BEGIN:VCALENDAR
VERSION:2.0
PRODID:icalendar-ruby
CALSCALE:GREGORIAN
METHOD:PUBLISH
BEGIN:VEVENT
DTSTAMP:20260422T182210Z
UID:7-1318371@standrewlutheranchurch.com
DTSTART:20231224T160000Z
DTEND:20231224T170000Z
CLASS:PUBLIC
CREATED:20260422T123918
DESCRIPTION:
LAST-MODIFIED:20260422T123918
LOCATION:St. Andrew Lutheran Church and Online
SUMMARY:Sunday Worship
URL;VALUE=URI:https://standrewlutheranchurch.com/events/sunday-worship/2023
 -12-24
END:VEVENT
END:VCALENDAR
