BEGIN:VCALENDAR
VERSION:2.0
PRODID:icalendar-ruby
CALSCALE:GREGORIAN
METHOD:PUBLISH
BEGIN:VEVENT
DTSTAMP:20260422T151701Z
UID:7-1317664@standrewlutheranchurch.com
DTSTART:20231210T160000Z
DTEND:20231210T170000Z
CLASS:PUBLIC
CREATED:20260422T094355
DESCRIPTION:
LAST-MODIFIED:20260422T094355
LOCATION:St. Andrew Lutheran Church and Online
SUMMARY:Sunday Worship
URL;VALUE=URI:https://standrewlutheranchurch.com/events/sunday-worship/2023
 -12-10
END:VEVENT
END:VCALENDAR
