BEGIN:VCALENDAR
VERSION:2.0
PRODID:icalendar-ruby
CALSCALE:GREGORIAN
METHOD:PUBLISH
BEGIN:VEVENT
DTSTAMP:20260422T120624Z
UID:7-1316957@standrewlutheranchurch.com
DTSTART:20231126T160000Z
DTEND:20231126T170000Z
CLASS:PUBLIC
CREATED:20260422T064918
DESCRIPTION:
LAST-MODIFIED:20260422T064918
LOCATION:St. Andrew Lutheran Church and Online
SUMMARY:Sunday Worship
URL;VALUE=URI:https://standrewlutheranchurch.com/events/sunday-worship/2023
 -11-26
END:VEVENT
END:VCALENDAR
