BEGIN:VCALENDAR
VERSION:2.0
PRODID:icalendar-ruby
CALSCALE:GREGORIAN
METHOD:PUBLISH
BEGIN:VEVENT
DTSTAMP:20260422T090804Z
UID:7-1316250@standrewlutheranchurch.com
DTSTART:20231112T160000Z
DTEND:20231112T170000Z
CLASS:PUBLIC
CREATED:20260421T195121
DESCRIPTION:
LAST-MODIFIED:20260421T195121
LOCATION:St. Andrew Lutheran Church and Online
SUMMARY:Sunday Worship
URL;VALUE=URI:https://standrewlutheranchurch.com/events/sunday-worship/2023
 -11-12
END:VEVENT
END:VCALENDAR
