BEGIN:VCALENDAR
VERSION:2.0
PRODID:icalendar-ruby
CALSCALE:GREGORIAN
METHOD:PUBLISH
BEGIN:VEVENT
DTSTAMP:20260424T081853Z
UID:7-1324715@standrewlutheranchurch.com
DTSTART:20231022T150000Z
DTEND:20231022T160000Z
CLASS:PUBLIC
CREATED:20260423T212218
DESCRIPTION:
LAST-MODIFIED:20260423T212218
LOCATION:St. Andrew Lutheran Church and Online
SUMMARY:Sunday Worship
URL;VALUE=URI:https://standrewlutheranchurch.com/events/sunday-worship/2023
 -10-22
END:VEVENT
END:VCALENDAR
