BEGIN:VCALENDAR
VERSION:2.0
PRODID:icalendar-ruby
CALSCALE:GREGORIAN
METHOD:PUBLISH
BEGIN:VEVENT
DTSTAMP:20260421T214012Z
UID:7-1315538@standrewlutheranchurch.com
DTSTART:20230924T150000Z
DTEND:20230924T160000Z
CLASS:PUBLIC
CREATED:20260421T171241
DESCRIPTION:
LAST-MODIFIED:20260421T171241
LOCATION:St. Andrew Lutheran Church and Online
SUMMARY:Sunday Worship
URL;VALUE=URI:https://standrewlutheranchurch.com/events/sunday-worship/2023
 -09-24
END:VEVENT
END:VCALENDAR
