BEGIN:VCALENDAR
VERSION:2.0
PRODID:icalendar-ruby
CALSCALE:GREGORIAN
METHOD:PUBLISH
BEGIN:VEVENT
DTSTAMP:20260421T045744Z
UID:7-1312002@standrewlutheranchurch.com
DTSTART:20230709T150000Z
DTEND:20230709T160000Z
CLASS:PUBLIC
CREATED:20260420T193822
DESCRIPTION:
LAST-MODIFIED:20260420T193822
LOCATION:St. Andrew Lutheran Church and Online
SUMMARY:Sunday Worship
URL;VALUE=URI:https://standrewlutheranchurch.com/events/sunday-worship/2023
 -07-09
END:VEVENT
END:VCALENDAR
