BEGIN:VCALENDAR
VERSION:2.0
PRODID:icalendar-ruby
CALSCALE:GREGORIAN
METHOD:PUBLISH
BEGIN:VEVENT
DTSTAMP:20260421T003134Z
UID:7-1311999@standrewlutheranchurch.com
DTSTART:20230618T150000Z
DTEND:20230618T160000Z
CLASS:PUBLIC
CREATED:20260420T193822
DESCRIPTION:
LAST-MODIFIED:20260420T193822
LOCATION:St. Andrew Lutheran Church and Online
SUMMARY:Sunday Worship
URL;VALUE=URI:https://standrewlutheranchurch.com/events/sunday-worship/2023
 -06-18
END:VEVENT
END:VCALENDAR
