BEGIN:VCALENDAR
VERSION:2.0
PRODID:icalendar-ruby
CALSCALE:GREGORIAN
METHOD:PUBLISH
BEGIN:VEVENT
DTSTAMP:20260420T230251Z
UID:7-1311293@standrewlutheranchurch.com
DTSTART:20230611T150000Z
DTEND:20230611T160000Z
CLASS:PUBLIC
CREATED:20260420T170319
DESCRIPTION:
LAST-MODIFIED:20260420T170319
LOCATION:St. Andrew Lutheran Church and Online
SUMMARY:Sunday Worship
URL;VALUE=URI:https://standrewlutheranchurch.com/events/sunday-worship/2023
 -06-11
END:VEVENT
END:VCALENDAR
