BEGIN:VCALENDAR
VERSION:2.0
PRODID:icalendar-ruby
CALSCALE:GREGORIAN
METHOD:PUBLISH
BEGIN:VEVENT
DTSTAMP:20260420T212730Z
UID:7-1311292@standrewlutheranchurch.com
DTSTART:20230604T150000Z
DTEND:20230604T160000Z
CLASS:PUBLIC
CREATED:20260420T170319
DESCRIPTION:
LAST-MODIFIED:20260420T170319
LOCATION:St. Andrew Lutheran Church and Online
SUMMARY:Sunday Worship
URL;VALUE=URI:https://standrewlutheranchurch.com/events/sunday-worship/2023
 -06-04
END:VEVENT
END:VCALENDAR
