BEGIN:VCALENDAR
VERSION:2.0
PRODID:icalendar-ruby
CALSCALE:GREGORIAN
METHOD:PUBLISH
BEGIN:VEVENT
DTSTAMP:20260420T193826Z
UID:7-1310586@standrewlutheranchurch.com
DTSTART:20230528T150000Z
DTEND:20230528T160000Z
CLASS:PUBLIC
CREATED:20260420T142717
DESCRIPTION:
LAST-MODIFIED:20260420T142717
LOCATION:St. Andrew Lutheran Church and Online
SUMMARY:Sunday Worship
URL;VALUE=URI:https://standrewlutheranchurch.com/events/sunday-worship/2023
 -05-28
END:VEVENT
END:VCALENDAR
