BEGIN:VCALENDAR
VERSION:2.0
PRODID:icalendar-ruby
CALSCALE:GREGORIAN
METHOD:PUBLISH
BEGIN:VEVENT
DTSTAMP:20260420T143736Z
UID:7-1309173@standrewlutheranchurch.com
DTSTART:20230507T150000Z
DTEND:20230507T160000Z
CLASS:PUBLIC
CREATED:20260420T091909
DESCRIPTION:
LAST-MODIFIED:20260420T091909
LOCATION:St. Andrew Lutheran Church and Online
SUMMARY:Sunday Worship
URL;VALUE=URI:https://standrewlutheranchurch.com/events/sunday-worship/2023
 -05-07
END:VEVENT
END:VCALENDAR
