BEGIN:VCALENDAR
VERSION:2.0
PRODID:icalendar-ruby
CALSCALE:GREGORIAN
METHOD:PUBLISH
BEGIN:VEVENT
DTSTAMP:20260420T112808Z
UID:7-1308466@standrewlutheranchurch.com
DTSTART:20230423T150000Z
DTEND:20230423T160000Z
CLASS:PUBLIC
CREATED:20260420T064335
DESCRIPTION:
LAST-MODIFIED:20260420T064335
LOCATION:St. Andrew Lutheran Church and Online
SUMMARY:Sunday Worship
URL;VALUE=URI:https://standrewlutheranchurch.com/events/sunday-worship/2023
 -04-23
END:VEVENT
END:VCALENDAR
