BEGIN:VCALENDAR
VERSION:2.0
PRODID:icalendar-ruby
CALSCALE:GREGORIAN
METHOD:PUBLISH
BEGIN:VEVENT
DTSTAMP:20260420T095305Z
UID:7-1307760@standrewlutheranchurch.com
DTSTART:20230416T150000Z
DTEND:20230416T160000Z
CLASS:PUBLIC
CREATED:20260420T012805
DESCRIPTION:
LAST-MODIFIED:20260420T012805
LOCATION:St. Andrew Lutheran Church and Online
SUMMARY:Sunday Worship
URL;VALUE=URI:https://standrewlutheranchurch.com/events/sunday-worship/2023
 -04-16
END:VEVENT
END:VCALENDAR
